BEGIN:VCALENDAR
VERSION:2.0
PRODID:-//COCL Marche Et Tourisme - ECPv6.15.20//NONSGML v1.0//EN
CALSCALE:GREGORIAN
METHOD:PUBLISH
X-ORIGINAL-URL:https://coclmarchetourisme.fr
X-WR-CALDESC:Évènements pour COCL Marche Et Tourisme
REFRESH-INTERVAL;VALUE=DURATION:PT1H
X-Robots-Tag:noindex
X-PUBLISHED-TTL:PT1H
BEGIN:VTIMEZONE
TZID:Europe/Paris
BEGIN:DAYLIGHT
TZOFFSETFROM:+0100
TZOFFSETTO:+0200
TZNAME:CEST
DTSTART:20240331T010000
END:DAYLIGHT
BEGIN:STANDARD
TZOFFSETFROM:+0200
TZOFFSETTO:+0100
TZNAME:CET
DTSTART:20241027T010000
END:STANDARD
BEGIN:DAYLIGHT
TZOFFSETFROM:+0100
TZOFFSETTO:+0200
TZNAME:CEST
DTSTART:20250330T010000
END:DAYLIGHT
BEGIN:STANDARD
TZOFFSETFROM:+0200
TZOFFSETTO:+0100
TZNAME:CET
DTSTART:20251026T010000
END:STANDARD
BEGIN:DAYLIGHT
TZOFFSETFROM:+0100
TZOFFSETTO:+0200
TZNAME:CEST
DTSTART:20260329T010000
END:DAYLIGHT
BEGIN:STANDARD
TZOFFSETFROM:+0200
TZOFFSETTO:+0100
TZNAME:CET
DTSTART:20261025T010000
END:STANDARD
END:VTIMEZONE
BEGIN:VEVENT
DTSTART;TZID=Europe/Paris:20250406T080000
DTEND;TZID=Europe/Paris:20250406T180000
DTSTAMP:20260422T105848
CREATED:20250312T095826Z
LAST-MODIFIED:20250312T095826Z
UID:2726-1743926400-1743962400@coclmarchetourisme.fr
SUMMARY:La Quentinoise
DESCRIPTION:Départ de 8h à 11h pour la boucle de 35km \nDépart de 8h à 14h pour les boucles de 18km et 8.5km \nRestauration payante le midi ouvert à tous marcheurs ou non. \nAu menu : \n\nBurger\nSaucisses\nFrites maison\nPâtisseries maison
URL:https://coclmarchetourisme.fr/evenements/la-quentinoise/
LOCATION:Espace Philippe de Vigneulles\, Rue des écoles\, Lorry Lès Metz\, 57050\, France
CATEGORIES:Marche
ORGANIZER;CN="COCL Marche et Tourisme":MAILTO:contact@coclmarchetourisme.fr
END:VEVENT
END:VCALENDAR